BEGIN:VCALENDAR
VERSION:2.0
PRODID:-//https://schule-fahrwangen.ch//NONSGML kigkonsult.se iCalcreator 2.41.71//
CALSCALE:GREGORIAN
METHOD:PUBLISH
UID:36323037-6538-4166-b931-393065336630
X-WR-CALNAME:JCal Pro Kalender
X-WR-CALDESC:Ihr Online-Terminkalender
X-WR-TIMEZONE:Europe/Zurich
BEGIN:VTIMEZONE
TZID:Europe/Zurich
TZUNTIL:20271031T010000Z
BEGIN:STANDARD
TZNAME:CET
DTSTART:20251026T030000
TZOFFSETFROM:+0200
TZOFFSETTO:+0100
RDATE:20261025T030000
END:STANDARD
BEGIN:DAYLIGHT
TZNAME:CEST
DTSTART:20260329T020000
TZOFFSETFROM:+0100
TZOFFSETTO:+0200
RDATE:20270328T020000
END:DAYLIGHT
END:VTIMEZONE
BEGIN:VEVENT
UID:20250530T160000UTC-7000M9UzeZ@https://test.schule-fahrwangen.ch/
DTSTAMP:20260419T204707Z
CATEGORIES:schulfrei
DTSTART;TZID=Europe/Zurich:20260515T000000
DTEND;TZID=Europe/Zurich:20260515T235959
SUMMARY:Auffahrtsbrücke - schulfrei
URL:https://schule-fahrwangen.ch/termine-primar/29-schulfrei/25-auffahrtsbr
 uecke-schulfrei
END:VEVENT
END:VCALENDAR
