BEGIN:VCALENDAR
VERSION:2.0
PRODID:-//https://schule-fahrwangen.ch//NONSGML kigkonsult.se iCalcreator 2.41.71//
CALSCALE:GREGORIAN
METHOD:PUBLISH
UID:30323638-3037-4934-a430-366632313762
X-WR-CALNAME:JCal Pro Kalender
X-WR-CALDESC:Ihr Online-Terminkalender
X-WR-TIMEZONE:Europe/Zurich
BEGIN:VTIMEZONE
TZID:Europe/Zurich
TZUNTIL:20271031T010000Z
BEGIN:STANDARD
TZNAME:CET
DTSTART:20251026T030000
TZOFFSETFROM:+0200
TZOFFSETTO:+0100
RDATE:20261025T030000
END:STANDARD
BEGIN:DAYLIGHT
TZNAME:CEST
DTSTART:20260329T020000
TZOFFSETFROM:+0100
TZOFFSETTO:+0200
RDATE:20270328T020000
END:DAYLIGHT
END:VTIMEZONE
BEGIN:VEVENT
UID:20260428T190000UTC-1031kRBPXj@https://schule-fahrwangen.ch/
DTSTAMP:20260419T202631Z
CATEGORIES:Primarschule
DESCRIPTION:<p>Die Referentin Priska Flury (www.creavida.ch) wird mit uns e
 inen Spielworkshop zum Thema «Soziale Kompetenzen spielerisch fördern» dur
 chführen.</p>\n<p>Wir freuen uns auf einen spielerischen und fröhlichen Ab
 end mit Ihnen!</p>\n<p>Alle weiteren Informationen\, entnehmen Sie dem Ein
 ladungsschreiben.&nbsp\; Bitte beachten Sie\, dass für diesen Anlass eine 
 Anmeldung erforderlich ist.&nbsp\;</p>
DTSTART;TZID=Europe/Zurich:20260428T190000
DTEND;TZID=Europe/Zurich:20260428T210000
SUMMARY:Themenabend: 'Soziale Kompetenzen spielerisch fördern'
URL:https://schule-fahrwangen.ch/termine-primar/25-uncategorised/118-themen
 abend-soziale-kompetenzen-spielerisch-foerdern
X-ALT-DESC;FMTTYPE=TEXT/HTML:<p>Die Referentin Priska Flury (www.creavida.c
 h) wird mit uns einen Spielworkshop zum Thema «Soziale Kompetenzen spieler
 isch fördern» durchführen.</p>\n<p>Wir freuen uns auf einen spielerischen 
 und fröhlichen Abend mit Ihnen!</p>\n<p>Alle weiteren Informationen\, entn
 ehmen Sie dem Einladungsschreiben.&nbsp\; Bitte beachten Sie\, dass für di
 esen Anlass eine Anmeldung erforderlich ist.&nbsp\;</p>
END:VEVENT
BEGIN:VEVENT
UID:20250501T114500UTC-3770tnH0gt@https://test.schule-fahrwangen.ch/
DTSTAMP:20260419T202631Z
CATEGORIES:schulfrei
DESCRIPTION:<p>Nachmittag\, schulfrei</p>
DTSTART;TZID=Europe/Zurich:20260501T114500
DTEND;TZID=Europe/Zurich:20260501T171000
SUMMARY:1. Mai - Tag der Arbeit - Nachmittag schulfrei
URL:https://schule-fahrwangen.ch/termine-primar/29-schulfrei/84-1-mai-tag-d
 er-arbeit-nachmittag-schulfrei
X-ALT-DESC;FMTTYPE=TEXT/HTML:<p>Nachmittag\, schulfrei</p>
END:VEVENT
END:VCALENDAR
